BEGIN:VCALENDAR
VERSION:2.0
PRODID:-//Richmondshire District Scouts - ECPv6.15.20//NONSGML v1.0//EN
CALSCALE:GREGORIAN
METHOD:PUBLISH
X-WR-CALNAME:Richmondshire District Scouts
X-ORIGINAL-URL:https://richmondshirescouts.org.uk
X-WR-CALDESC:Events for Richmondshire District Scouts
REFRESH-INTERVAL;VALUE=DURATION:PT1H
X-Robots-Tag:noindex
X-PUBLISHED-TTL:PT1H
BEGIN:VTIMEZONE
TZID:Europe/London
BEGIN:DAYLIGHT
TZOFFSETFROM:+0000
TZOFFSETTO:+0100
TZNAME:BST
DTSTART:20240331T010000
END:DAYLIGHT
BEGIN:STANDARD
TZOFFSETFROM:+0100
TZOFFSETTO:+0000
TZNAME:GMT
DTSTART:20241027T010000
END:STANDARD
BEGIN:DAYLIGHT
TZOFFSETFROM:+0000
TZOFFSETTO:+0100
TZNAME:BST
DTSTART:20250330T010000
END:DAYLIGHT
BEGIN:STANDARD
TZOFFSETFROM:+0100
TZOFFSETTO:+0000
TZNAME:GMT
DTSTART:20251026T010000
END:STANDARD
BEGIN:DAYLIGHT
TZOFFSETFROM:+0000
TZOFFSETTO:+0100
TZNAME:BST
DTSTART:20260329T010000
END:DAYLIGHT
BEGIN:STANDARD
TZOFFSETFROM:+0100
TZOFFSETTO:+0000
TZNAME:GMT
DTSTART:20261025T010000
END:STANDARD
END:VTIMEZONE
BEGIN:VEVENT
DTSTART;TZID=Europe/London:20250713T140000
DTEND;TZID=Europe/London:20250713T160000
DTSTAMP:20260425T135358
CREATED:20250328T113212Z
LAST-MODIFIED:20250328T113219Z
UID:220-1752415200-1752422400@richmondshirescouts.org.uk
SUMMARY:District Sports Day - Squirrels\, Beavers\, Cubs
DESCRIPTION:District Sports Day \n  \nContact Tara.Roulston@nys.org.uk for details
URL:https://richmondshirescouts.org.uk/event/district-sports-day-squirrels-beavers-cubs/
LOCATION:Catterick St Annes Scout Hut\, Leeming Lane\, Catterick\, DL10 7JY\, United Kingdom
CATEGORIES:Beavers,Cubs,Squirrels
END:VEVENT
END:VCALENDAR